BEGIN:VCALENDAR
VERSION:2.0
PRODID:-//Sudbury &amp; District Quilting and Stitchery Guild - ECPv6.15.20//NONSGML v1.0//EN
CALSCALE:GREGORIAN
METHOD:PUBLISH
X-WR-CALNAME:Sudbury &amp; District Quilting and Stitchery Guild
X-ORIGINAL-URL:https://www.sdqsg.com
X-WR-CALDESC:Events for Sudbury &amp; District Quilting and Stitchery Guild
REFRESH-INTERVAL;VALUE=DURATION:PT1H
X-Robots-Tag:noindex
X-PUBLISHED-TTL:PT1H
BEGIN:VTIMEZONE
TZID:America/Toronto
BEGIN:DAYLIGHT
TZOFFSETFROM:-0500
TZOFFSETTO:-0400
TZNAME:EDT
DTSTART:20250309T070000
END:DAYLIGHT
BEGIN:STANDARD
TZOFFSETFROM:-0400
TZOFFSETTO:-0500
TZNAME:EST
DTSTART:20251102T060000
END:STANDARD
BEGIN:DAYLIGHT
TZOFFSETFROM:-0500
TZOFFSETTO:-0400
TZNAME:EDT
DTSTART:20260308T070000
END:DAYLIGHT
BEGIN:STANDARD
TZOFFSETFROM:-0400
TZOFFSETTO:-0500
TZNAME:EST
DTSTART:20261101T060000
END:STANDARD
BEGIN:DAYLIGHT
TZOFFSETFROM:-0500
TZOFFSETTO:-0400
TZNAME:EDT
DTSTART:20270314T070000
END:DAYLIGHT
BEGIN:STANDARD
TZOFFSETFROM:-0400
TZOFFSETTO:-0500
TZNAME:EST
DTSTART:20271107T060000
END:STANDARD
END:VTIMEZONE
BEGIN:VEVENT
DTSTART;TZID=America/Toronto:20260324T190000
DTEND;TZID=America/Toronto:20260324T210000
DTSTAMP:20260423T133449
CREATED:20260130T193356Z
LAST-MODIFIED:20260130T193356Z
UID:6987-1774378800-1774386000@www.sdqsg.com
SUMMARY:Positive/Negative Applique Bag - Class 2
DESCRIPTION:Positive/Negative Applique Bag – Class 2
URL:https://www.sdqsg.com/event/positive-negative-applique-bag-class-2/
LOCATION:Parkside – Room B
END:VEVENT
END:VCALENDAR