BEGIN:VCALENDAR
VERSION:2.0
PRODID:-//Sudbury &amp; District Quilting and Stitchery Guild - ECPv6.15.20//NONSGML v1.0//EN
CALSCALE:GREGORIAN
METHOD:PUBLISH
X-WR-CALNAME:Sudbury &amp; District Quilting and Stitchery Guild
X-ORIGINAL-URL:https://www.sdqsg.com
X-WR-CALDESC:Events for Sudbury &amp; District Quilting and Stitchery Guild
REFRESH-INTERVAL;VALUE=DURATION:PT1H
X-Robots-Tag:noindex
X-PUBLISHED-TTL:PT1H
BEGIN:VTIMEZONE
TZID:America/Toronto
BEGIN:DAYLIGHT
TZOFFSETFROM:-0500
TZOFFSETTO:-0400
TZNAME:EDT
DTSTART:20240310T070000
END:DAYLIGHT
BEGIN:STANDARD
TZOFFSETFROM:-0400
TZOFFSETTO:-0500
TZNAME:EST
DTSTART:20241103T060000
END:STANDARD
BEGIN:DAYLIGHT
TZOFFSETFROM:-0500
TZOFFSETTO:-0400
TZNAME:EDT
DTSTART:20250309T070000
END:DAYLIGHT
BEGIN:STANDARD
TZOFFSETFROM:-0400
TZOFFSETTO:-0500
TZNAME:EST
DTSTART:20251102T060000
END:STANDARD
BEGIN:DAYLIGHT
TZOFFSETFROM:-0500
TZOFFSETTO:-0400
TZNAME:EDT
DTSTART:20260308T070000
END:DAYLIGHT
BEGIN:STANDARD
TZOFFSETFROM:-0400
TZOFFSETTO:-0500
TZNAME:EST
DTSTART:20261101T060000
END:STANDARD
END:VTIMEZONE
BEGIN:VEVENT
DTSTART;TZID=America/Toronto:20251111T183000
DTEND;TZID=America/Toronto:20251111T203000
DTSTAMP:20260423T194843
CREATED:20250908T234209Z
LAST-MODIFIED:20250908T234209Z
UID:6669-1762885800-1762893000@www.sdqsg.com
SUMMARY:Quilting 101 - Class 3
DESCRIPTION:Quilting 101 – Class 3
URL:https://www.sdqsg.com/event/quilting-101-class-3/
LOCATION:Parkside – Room C
END:VEVENT
BEGIN:VEVENT
DTSTART;TZID=America/Toronto:20251104T190000
DTEND;TZID=America/Toronto:20251104T210000
DTSTAMP:20260423T194843
CREATED:20250908T235912Z
LAST-MODIFIED:20250908T235912Z
UID:6695-1762282800-1762290000@www.sdqsg.com
SUMMARY:Regular Meeting
DESCRIPTION:Regular Meeting
URL:https://www.sdqsg.com/event/regular-meeting-4/
LOCATION:Parkside Centre\, Parkside Centre\, Canada
END:VEVENT
BEGIN:VEVENT
DTSTART;TZID=America/Toronto:20251101T090000
DTEND;TZID=America/Toronto:20251101T160000
DTSTAMP:20260423T194843
CREATED:20250825T170213Z
LAST-MODIFIED:20250829T195022Z
UID:6600-1761987600-1762012800@www.sdqsg.com
SUMMARY:Community Quilts
DESCRIPTION:Community Quilts
URL:https://www.sdqsg.com/event/community-quilts-2/
LOCATION:Parkside Centre\, Parkside Centre\, Canada
END:VEVENT
BEGIN:VEVENT
DTSTART;TZID=America/Toronto:20251021T190000
DTEND;TZID=America/Toronto:20251021T210000
DTSTAMP:20260423T194843
CREATED:20250908T235828Z
LAST-MODIFIED:20250908T235828Z
UID:6693-1761073200-1761080400@www.sdqsg.com
SUMMARY:Regular Meeting & Scrappy Cottage Group
DESCRIPTION:Regular Meeting & Scrappy Cottage Group
URL:https://www.sdqsg.com/event/regular-meeting-scrappy-cottage-group-3/
LOCATION:Parkside Centre\, Parkside Centre\, Canada
END:VEVENT
BEGIN:VEVENT
DTSTART;TZID=America/Toronto:20251018T123000
DTEND;TZID=America/Toronto:20251018T143000
DTSTAMP:20260423T194843
CREATED:20250908T234008Z
LAST-MODIFIED:20250908T234735Z
UID:6667-1760790600-1760797800@www.sdqsg.com
SUMMARY:Needle Punch Embroidery
DESCRIPTION:Needle Punch Embroidery
URL:https://www.sdqsg.com/event/needle-punch-embroidery/
END:VEVENT
BEGIN:VEVENT
DTSTART;TZID=America/Toronto:20251014T190000
DTEND;TZID=America/Toronto:20251014T210000
DTSTAMP:20260423T194843
CREATED:20250908T235605Z
LAST-MODIFIED:20250930T142856Z
UID:6689-1760468400-1760475600@www.sdqsg.com
SUMMARY:Stitchery Cottage Group
DESCRIPTION:Stitchery Cottage Group
URL:https://www.sdqsg.com/event/dmq-stitchery-cottage-groups-2/
LOCATION:Parkside – Craft/Library
END:VEVENT
BEGIN:VEVENT
DTSTART;TZID=America/Toronto:20251014T183000
DTEND;TZID=America/Toronto:20251014T203000
DTSTAMP:20260423T194843
CREATED:20250908T233729Z
LAST-MODIFIED:20250908T233729Z
UID:6664-1760466600-1760473800@www.sdqsg.com
SUMMARY:Crumb Quilting
DESCRIPTION:Crumb Quilting
URL:https://www.sdqsg.com/event/crumb-quilting/
LOCATION:Parkside – Room B
END:VEVENT
BEGIN:VEVENT
DTSTART;TZID=America/Toronto:20251014T183000
DTEND;TZID=America/Toronto:20251014T203000
DTSTAMP:20260423T194843
CREATED:20250908T233240Z
LAST-MODIFIED:20250908T233519Z
UID:6660-1760466600-1760473800@www.sdqsg.com
SUMMARY:Quilting 101 - Class 2
DESCRIPTION:Quilting 101 – Class 2
URL:https://www.sdqsg.com/event/quilting-101-class-2/
LOCATION:Parkside – Room C
END:VEVENT
BEGIN:VEVENT
DTSTART;TZID=America/Toronto:20251007T190000
DTEND;TZID=America/Toronto:20251007T210000
DTSTAMP:20260423T194843
CREATED:20250908T235447Z
LAST-MODIFIED:20250908T235447Z
UID:6687-1759863600-1759870800@www.sdqsg.com
SUMMARY:Regular Meeting
DESCRIPTION:Regular Meeting
URL:https://www.sdqsg.com/event/regular-meeting-3/
LOCATION:Parkside Centre\, Parkside Centre\, Canada
END:VEVENT
BEGIN:VEVENT
DTSTART;TZID=America/Toronto:20251004T090000
DTEND;TZID=America/Toronto:20251004T160000
DTSTAMP:20260423T194843
CREATED:20250819T201008Z
LAST-MODIFIED:20250829T194740Z
UID:6592-1759568400-1759593600@www.sdqsg.com
SUMMARY:COMMUNITY QUILTS
DESCRIPTION:Community Quilts
URL:https://www.sdqsg.com/event/community-quilts/
LOCATION:Parkside Centre\, Parkside Centre\, Canada
END:VEVENT
BEGIN:VEVENT
DTSTART;TZID=America/Toronto:20250927T090000
DTEND;TZID=America/Toronto:20250927T160000
DTSTAMP:20260423T194843
CREATED:20250819T195418Z
LAST-MODIFIED:20250829T195134Z
UID:6588-1758963600-1758988800@www.sdqsg.com
SUMMARY:Applique
DESCRIPTION:Applique
URL:https://www.sdqsg.com/event/applique/
LOCATION:Parkside Centre\, Parkside Centre\, Canada
END:VEVENT
BEGIN:VEVENT
DTSTART;TZID=America/Toronto:20250916T190000
DTEND;TZID=America/Toronto:20250916T210000
DTSTAMP:20260423T194843
CREATED:20250908T235332Z
LAST-MODIFIED:20250908T235332Z
UID:6685-1758049200-1758056400@www.sdqsg.com
SUMMARY:Regular Meeting & Scrappy Cottage Group
DESCRIPTION:Regular Meeting & Scrappy Cottage Group
URL:https://www.sdqsg.com/event/regular-meeting-scrappy-cottage-group/
END:VEVENT
BEGIN:VEVENT
DTSTART;TZID=America/Toronto:20250916T190000
DTEND;TZID=America/Toronto:20250916T210000
DTSTAMP:20260423T194843
CREATED:20250819T200659Z
LAST-MODIFIED:20250829T195209Z
UID:6590-1758049200-1758056400@www.sdqsg.com
SUMMARY:Regular Meeting
DESCRIPTION:Regular Meeting
URL:https://www.sdqsg.com/event/regular-meeting-2/
LOCATION:Parkside Centre\, Parkside Centre\, Canada
END:VEVENT
BEGIN:VEVENT
DTSTART;TZID=America/Toronto:20250909T190000
DTEND;TZID=America/Toronto:20250909T210000
DTSTAMP:20260423T194843
CREATED:20250908T235229Z
LAST-MODIFIED:20250930T142949Z
UID:6683-1757444400-1757451600@www.sdqsg.com
SUMMARY:Stitchery Cottage Group
DESCRIPTION:Stitchery Cottage Group
URL:https://www.sdqsg.com/event/dmq-stitchery-cottage-groups/
LOCATION:Parkside – Craft/Library
END:VEVENT
BEGIN:VEVENT
DTSTART;TZID=America/Toronto:20250909T183000
DTEND;TZID=America/Toronto:20250909T203000
DTSTAMP:20260423T194843
CREATED:20250819T195108Z
LAST-MODIFIED:20250829T195247Z
UID:6584-1757442600-1757449800@www.sdqsg.com
SUMMARY:Round Robin
DESCRIPTION:Round Robin
URL:https://www.sdqsg.com/event/round-robin/
LOCATION:Parkside – Craft/Library
END:VEVENT
BEGIN:VEVENT
DTSTART;TZID=America/Toronto:20250909T183000
DTEND;TZID=America/Toronto:20250909T203000
DTSTAMP:20260423T194843
CREATED:20250819T193759Z
LAST-MODIFIED:20250829T195329Z
UID:6576-1757442600-1757449800@www.sdqsg.com
SUMMARY:Flange Binding
DESCRIPTION:Flange Binding
URL:https://www.sdqsg.com/event/flange-binding/
LOCATION:Parkside – Room B
END:VEVENT
BEGIN:VEVENT
DTSTART;TZID=America/Toronto:20250909T183000
DTEND;TZID=America/Toronto:20250909T203000
DTSTAMP:20260423T194843
CREATED:20250819T193221Z
LAST-MODIFIED:20250829T195413Z
UID:6566-1757442600-1757449800@www.sdqsg.com
SUMMARY:Quilting 101- Class 1
DESCRIPTION:Quilting 101 – Class 1
URL:https://www.sdqsg.com/event/quilting-101-class-1/
LOCATION:Parkside – Room C
END:VEVENT
BEGIN:VEVENT
DTSTART;TZID=America/Toronto:20250902T190000
DTEND;TZID=America/Toronto:20250902T210000
DTSTAMP:20260423T194843
CREATED:20250810T203321Z
LAST-MODIFIED:20250829T195451Z
UID:6529-1756839600-1756846800@www.sdqsg.com
SUMMARY:Regular Meeting
DESCRIPTION:Regular Meeting
URL:https://www.sdqsg.com/event/regular-meeting/
LOCATION:Parkside Centre\, Parkside Centre\, Canada
END:VEVENT
END:VCALENDAR