BEGIN:VCALENDAR
VERSION:2.0
PRODID:-//Sudbury &amp; District Quilting and Stitchery Guild - ECPv6.15.20//NONSGML v1.0//EN
CALSCALE:GREGORIAN
METHOD:PUBLISH
X-WR-CALNAME:Sudbury &amp; District Quilting and Stitchery Guild
X-ORIGINAL-URL:https://www.sdqsg.com
X-WR-CALDESC:Events for Sudbury &amp; District Quilting and Stitchery Guild
REFRESH-INTERVAL;VALUE=DURATION:PT1H
X-Robots-Tag:noindex
X-PUBLISHED-TTL:PT1H
BEGIN:VTIMEZONE
TZID:America/Toronto
BEGIN:DAYLIGHT
TZOFFSETFROM:-0500
TZOFFSETTO:-0400
TZNAME:EDT
DTSTART:20240310T070000
END:DAYLIGHT
BEGIN:STANDARD
TZOFFSETFROM:-0400
TZOFFSETTO:-0500
TZNAME:EST
DTSTART:20241103T060000
END:STANDARD
BEGIN:DAYLIGHT
TZOFFSETFROM:-0500
TZOFFSETTO:-0400
TZNAME:EDT
DTSTART:20250309T070000
END:DAYLIGHT
BEGIN:STANDARD
TZOFFSETFROM:-0400
TZOFFSETTO:-0500
TZNAME:EST
DTSTART:20251102T060000
END:STANDARD
BEGIN:DAYLIGHT
TZOFFSETFROM:-0500
TZOFFSETTO:-0400
TZNAME:EDT
DTSTART:20260308T070000
END:DAYLIGHT
BEGIN:STANDARD
TZOFFSETFROM:-0400
TZOFFSETTO:-0500
TZNAME:EST
DTSTART:20261101T060000
END:STANDARD
END:VTIMEZONE
BEGIN:VEVENT
DTSTART;TZID=America/Toronto:20251101T090000
DTEND;TZID=America/Toronto:20251101T160000
DTSTAMP:20260423T180833
CREATED:20250825T170213Z
LAST-MODIFIED:20250829T195022Z
UID:6600-1761987600-1762012800@www.sdqsg.com
SUMMARY:Community Quilts
DESCRIPTION:Community Quilts
URL:https://www.sdqsg.com/event/community-quilts-2/
LOCATION:Parkside Centre\, Parkside Centre\, Canada
END:VEVENT
BEGIN:VEVENT
DTSTART;TZID=America/Toronto:20251104T190000
DTEND;TZID=America/Toronto:20251104T210000
DTSTAMP:20260423T180833
CREATED:20250908T235912Z
LAST-MODIFIED:20250908T235912Z
UID:6695-1762282800-1762290000@www.sdqsg.com
SUMMARY:Regular Meeting
DESCRIPTION:Regular Meeting
URL:https://www.sdqsg.com/event/regular-meeting-4/
LOCATION:Parkside Centre\, Parkside Centre\, Canada
END:VEVENT
BEGIN:VEVENT
DTSTART;TZID=America/Toronto:20251111T183000
DTEND;TZID=America/Toronto:20251111T203000
DTSTAMP:20260423T180833
CREATED:20250908T234209Z
LAST-MODIFIED:20250908T234209Z
UID:6669-1762885800-1762893000@www.sdqsg.com
SUMMARY:Quilting 101 - Class 3
DESCRIPTION:Quilting 101 – Class 3
URL:https://www.sdqsg.com/event/quilting-101-class-3/
LOCATION:Parkside – Room C
END:VEVENT
BEGIN:VEVENT
DTSTART;TZID=America/Toronto:20251111T183000
DTEND;TZID=America/Toronto:20251111T203000
DTSTAMP:20260423T180833
CREATED:20250908T234354Z
LAST-MODIFIED:20250908T234844Z
UID:6671-1762885800-1762893000@www.sdqsg.com
SUMMARY:YoYo Christmas Ornament
DESCRIPTION:YoYo Christmas Ornament
URL:https://www.sdqsg.com/event/yoyo-christmas-ornament/
LOCATION:Parkside – Room B
END:VEVENT
BEGIN:VEVENT
DTSTART;TZID=America/Toronto:20251111T190000
DTEND;TZID=America/Toronto:20251111T210000
DTSTAMP:20260423T180833
CREATED:20250909T000010Z
LAST-MODIFIED:20250930T142809Z
UID:6697-1762887600-1762894800@www.sdqsg.com
SUMMARY:Stitchery Cottage Group
DESCRIPTION:Stitchery Cottage Group
URL:https://www.sdqsg.com/event/dmq-stitchery-cottage-groups-3/
LOCATION:Parkside – Craft/Library
END:VEVENT
BEGIN:VEVENT
DTSTART;TZID=America/Toronto:20251118T080000
DTEND;TZID=America/Toronto:20251118T170000
DTSTAMP:20260423T180833
CREATED:20250908T235704Z
LAST-MODIFIED:20250908T235704Z
UID:6691-1763452800-1763485200@www.sdqsg.com
SUMMARY:Regular Meeting & Scrappy Cottage Group
DESCRIPTION:Regular Meeting & Scrappy Cottage Group
URL:https://www.sdqsg.com/event/regular-meeting-scrappy-cottage-group-2/
LOCATION:Parkside Centre\, Parkside Centre\, Canada
END:VEVENT
BEGIN:VEVENT
DTSTART;TZID=America/Toronto:20251118T183000
DTEND;TZID=America/Toronto:20251118T203000
DTSTAMP:20260423T180833
CREATED:20250908T234955Z
LAST-MODIFIED:20250908T234955Z
UID:6681-1763490600-1763497800@www.sdqsg.com
SUMMARY:Macrame Christmas
DESCRIPTION:Macrame Christmas
URL:https://www.sdqsg.com/event/macrame-christmas/
LOCATION:Parkside – Room B
END:VEVENT
BEGIN:VEVENT
DTSTART;TZID=America/Toronto:20251122T090000
DTEND;TZID=America/Toronto:20251122T160000
DTSTAMP:20260423T180833
CREATED:20251022T142741Z
LAST-MODIFIED:20251022T142741Z
UID:6866-1763802000-1763827200@www.sdqsg.com
SUMMARY:Community Quilts
DESCRIPTION:COMMUNITY QUILTS
URL:https://www.sdqsg.com/event/community-quilts-8/
LOCATION:Parkside Centre\, Parkside Centre\, Canada
END:VEVENT
END:VCALENDAR