BEGIN:VCALENDAR
VERSION:2.0
PRODID:-//Sudbury &amp; District Quilting and Stitchery Guild - ECPv6.15.20//NONSGML v1.0//EN
CALSCALE:GREGORIAN
METHOD:PUBLISH
X-WR-CALNAME:Sudbury &amp; District Quilting and Stitchery Guild
X-ORIGINAL-URL:https://www.sdqsg.com
X-WR-CALDESC:Events for Sudbury &amp; District Quilting and Stitchery Guild
REFRESH-INTERVAL;VALUE=DURATION:PT1H
X-Robots-Tag:noindex
X-PUBLISHED-TTL:PT1H
BEGIN:VTIMEZONE
TZID:America/Toronto
BEGIN:DAYLIGHT
TZOFFSETFROM:-0500
TZOFFSETTO:-0400
TZNAME:EDT
DTSTART:20250309T070000
END:DAYLIGHT
BEGIN:STANDARD
TZOFFSETFROM:-0400
TZOFFSETTO:-0500
TZNAME:EST
DTSTART:20251102T060000
END:STANDARD
BEGIN:DAYLIGHT
TZOFFSETFROM:-0500
TZOFFSETTO:-0400
TZNAME:EDT
DTSTART:20260308T070000
END:DAYLIGHT
BEGIN:STANDARD
TZOFFSETFROM:-0400
TZOFFSETTO:-0500
TZNAME:EST
DTSTART:20261101T060000
END:STANDARD
BEGIN:DAYLIGHT
TZOFFSETFROM:-0500
TZOFFSETTO:-0400
TZNAME:EDT
DTSTART:20270314T070000
END:DAYLIGHT
BEGIN:STANDARD
TZOFFSETFROM:-0400
TZOFFSETTO:-0500
TZNAME:EST
DTSTART:20271107T060000
END:STANDARD
END:VTIMEZONE
BEGIN:VEVENT
DTSTART;TZID=America/Toronto:20260106T190000
DTEND;TZID=America/Toronto:20260106T210000
DTSTAMP:20260423T150911
CREATED:20250930T142258Z
LAST-MODIFIED:20250930T142258Z
UID:6819-1767726000-1767733200@www.sdqsg.com
SUMMARY:Regular Meeting
DESCRIPTION:
URL:https://www.sdqsg.com/event/regular-meeting-6/
LOCATION:Parkside Centre\, Parkside Centre\, Canada
END:VEVENT
BEGIN:VEVENT
DTSTART;TZID=America/Toronto:20260110T090000
DTEND;TZID=America/Toronto:20260110T160000
DTSTAMP:20260423T150911
CREATED:20250825T170303Z
LAST-MODIFIED:20250829T194957Z
UID:6602-1768035600-1768060800@www.sdqsg.com
SUMMARY:Community Quilts
DESCRIPTION:Community Quilts
URL:https://www.sdqsg.com/event/community-quilts-3/
LOCATION:Parkside Centre\, Parkside Centre\, Canada
END:VEVENT
BEGIN:VEVENT
DTSTART;TZID=America/Toronto:20260113T190000
DTEND;TZID=America/Toronto:20260113T210000
DTSTAMP:20260423T150911
CREATED:20250930T142433Z
LAST-MODIFIED:20250930T142433Z
UID:6821-1768330800-1768338000@www.sdqsg.com
SUMMARY:Stitchery Cottage Group
DESCRIPTION:Stitchery Cottage Group
URL:https://www.sdqsg.com/event/stitchery-cottage-group/
LOCATION:Parkside – Craft/Library
END:VEVENT
BEGIN:VEVENT
DTSTART;TZID=America/Toronto:20260120T190000
DTEND;TZID=America/Toronto:20260120T210000
DTSTAMP:20260423T150911
CREATED:20250930T142607Z
LAST-MODIFIED:20250930T142607Z
UID:6823-1768935600-1768942800@www.sdqsg.com
SUMMARY:Regular Meeting & Scrappy Cottage Group
DESCRIPTION:Regular Meeting & Scrappy Cottage Group
URL:https://www.sdqsg.com/event/regular-meeting-scrappy-cottage-group-5/
LOCATION:Parkside Centre\, Parkside Centre\, Canada
END:VEVENT
END:VCALENDAR